BEGIN:VCALENDAR
VERSION:2.0
METHOD:PUBLISH
PRODID:SimpleCalendar
BEGIN:VEVENT
UID:@simplecalendar-Freiwillige Feuerwehr Hemsbach
CATEGORIES:Spielmannszug
CLASS:PUBLIC
DTSTAMP:20260420T103653Z
CREATED:20260420T103653Z
SUMMARY:Übung Spielmannszug - Übung Großer Zapfenstreich (Marschieren)
DESCRIPTION:Übung Spielmannszug - Übung Großer Zapfenstreich (Marschieren) Feuerwach e Hemsbach /
LOCATION:Feuerwache Hemsbach
TRANSP:OPAQUE
DTSTART:20250520T170000Z
DTEND:20250519T230000Z
END:VEVENT
END:VCALENDAR